BEGIN:VCALENDAR
VERSION:2.0
PRODID:-//Bureau des Îles Anglo-Normandes - ECPv6.15.20//NONSGML v1.0//EN
CALSCALE:GREGORIAN
METHOD:PUBLISH
X-ORIGINAL-URL:https://www.bianfrance.org
X-WR-CALDESC:Évènements pour Bureau des Îles Anglo-Normandes
REFRESH-INTERVAL;VALUE=DURATION:PT1H
X-Robots-Tag:noindex
X-PUBLISHED-TTL:PT1H
BEGIN:VTIMEZONE
TZID:Europe/Paris
BEGIN:DAYLIGHT
TZOFFSETFROM:+0100
TZOFFSETTO:+0200
TZNAME:CEST
DTSTART:20250330T010000
END:DAYLIGHT
BEGIN:STANDARD
TZOFFSETFROM:+0200
TZOFFSETTO:+0100
TZNAME:CET
DTSTART:20251026T010000
END:STANDARD
BEGIN:DAYLIGHT
TZOFFSETFROM:+0100
TZOFFSETTO:+0200
TZNAME:CEST
DTSTART:20260329T010000
END:DAYLIGHT
BEGIN:STANDARD
TZOFFSETFROM:+0200
TZOFFSETTO:+0100
TZNAME:CET
DTSTART:20261025T010000
END:STANDARD
BEGIN:DAYLIGHT
TZOFFSETFROM:+0100
TZOFFSETTO:+0200
TZNAME:CEST
DTSTART:20270328T010000
END:DAYLIGHT
BEGIN:STANDARD
TZOFFSETFROM:+0200
TZOFFSETTO:+0100
TZNAME:CET
DTSTART:20271031T010000
END:STANDARD
END:VTIMEZONE
BEGIN:VEVENT
DTSTART;TZID=Europe/Paris:20260116T174500
DTEND;TZID=Europe/Paris:20260117T210000
DTSTAMP:20260425T174440
CREATED:20260109T163711Z
LAST-MODIFIED:20260109T164109Z
UID:16953-1768585500-1768683600@www.bianfrance.org
SUMMARY:Cinefest 2026 - Deuxième Edition
DESCRIPTION:Cette année\, nous vous emmenons sous la surface. Des aventures océaniques à couper le souffle aux légendes maritimes méconnues\, CineFest 2026 célèbre la puissance\, le mystère et la beauté de la mer. \nLe programme suivant proposera des activités pour tous les goûts : \nVendredi 16 janvier à partir de 17h45 : une conférence intitulée « Jersey sous la surface » par Sam Blampied\, scientifique marin originaire de Jersey. \nLa conférence sera suivie du documentaire\, Les gardiennes de la mer (2023). \nRegardez la bande-annonce ici \nPlus d’informations et réservation \nSamedi 17 janvier à partir de 17h15 : un film pour enfants\, Le chant de la mer \, une belle histoire qui a remporté un prix au festival d’Annecy ! \nRegardez la bande-annonce ici \nPlus d’informations et réservation \nSamedi 17 janvier à partir de 19h : un thriller\, Albatros (2021) \nRegardez la bande-annonce ici \nPlus d’informations et réservation \nPrix ​​: \n1 adulte = 6 £ \n1 adulte + conférence = 10 £ \n1 enfant + 1 adulte (goûter inclus) = 10 £ \nEnfant supplémentaire (goûter inclus) = 5 £ \nConsultez le programme complet ici. \nNous espérons vous y voir !
URL:https://www.bianfrance.org/event/16953/
LOCATION:Jersey Museum\, The Weighbridge\,\, St Hélier
ATTACH;FMTTYPE=image/png:https://www.bianfrance.org/wp-content/uploads/Capture-decran-2026-01-09-171109-1.png
END:VEVENT
END:VCALENDAR