BEGIN:VCALENDAR
VERSION:2.0
PRODID:-//Bureau des Îles Anglo-Normandes - ECPv6.15.20//NONSGML v1.0//EN
CALSCALE:GREGORIAN
METHOD:PUBLISH
X-WR-CALNAME:Bureau des Îles Anglo-Normandes
X-ORIGINAL-URL:https://www.bianfrance.org
X-WR-CALDESC:Évènements pour Bureau des Îles Anglo-Normandes
REFRESH-INTERVAL;VALUE=DURATION:PT1H
X-Robots-Tag:noindex
X-PUBLISHED-TTL:PT1H
BEGIN:VTIMEZONE
TZID:Europe/Paris
BEGIN:DAYLIGHT
TZOFFSETFROM:+0100
TZOFFSETTO:+0200
TZNAME:CEST
DTSTART:20250330T010000
END:DAYLIGHT
BEGIN:STANDARD
TZOFFSETFROM:+0200
TZOFFSETTO:+0100
TZNAME:CET
DTSTART:20251026T010000
END:STANDARD
BEGIN:DAYLIGHT
TZOFFSETFROM:+0100
TZOFFSETTO:+0200
TZNAME:CEST
DTSTART:20260329T010000
END:DAYLIGHT
BEGIN:STANDARD
TZOFFSETFROM:+0200
TZOFFSETTO:+0100
TZNAME:CET
DTSTART:20261025T010000
END:STANDARD
BEGIN:DAYLIGHT
TZOFFSETFROM:+0100
TZOFFSETTO:+0200
TZNAME:CEST
DTSTART:20270328T010000
END:DAYLIGHT
BEGIN:STANDARD
TZOFFSETFROM:+0200
TZOFFSETTO:+0100
TZNAME:CET
DTSTART:20271031T010000
END:STANDARD
END:VTIMEZONE
BEGIN:VEVENT
DTSTART;TZID=Europe/Paris:20260320T120000
DTEND;TZID=Europe/Paris:20260510T180000
DTSTAMP:20260425T123617
CREATED:20260113T111736Z
LAST-MODIFIED:20260113T111736Z
UID:17061-1774008000-1778436000@www.bianfrance.org
SUMMARY:Salon d'art contemporain des Îles Anglo-Normandes 2026
DESCRIPTION:Cette deuxième édition du Salon d’art contemporain des Îles Anglo-Normandes s’inspire de la diversité des voix\, des réalités sociales\, des écosystèmes et des liens internationaux qui unissent aujourd’hui les Îles Anglo-Normandes. Réunissant un large éventail d’artistes\, et mettant cette édition à l’honneur une nouvelle génération d’artistes issus des trois régions organisatrices de l’exposition – Guernesey\, Jersey et la Bretagne –\, elle explore les réalités qui colorent notre quotidien et les interactions et activités qui cimentent nos communautés. Animé par un esprit de dialogue\, d’expérimentation et de rigueur artistique\, le Salon d’art contemporain des Îles Anglo-Normandes est produit par ArtHouse Jersey et Art for Guernsey\, en partenariat avec Passerelle Centre d’Art Contemporain de Brest\, en Bretagne. Ne manquez pas l’annonce définitive des artistes dans les prochains mois ! \nEntrée libre\, sans réservation. Fermé le lundi.
URL:https://www.bianfrance.org/event/salon-dart-contemporain-des-iles-anglo-normandes-2026/
LOCATION:ArtHouse Jersey\, Capital House 8 Church Street\, St Helier\, JE2 3NN
ATTACH;FMTTYPE=image/png:https://www.bianfrance.org/wp-content/uploads/The-Channel-Islands-Contemporary-Art-Show-2026.png
ORGANIZER;CN="ArtHouse Jersey":MAILTO:info@arts.je
END:VEVENT
BEGIN:VEVENT
DTSTART;VALUE=DATE:20260509
DTEND;VALUE=DATE:20260510
DTSTAMP:20260425T123617
CREATED:20260113T140735Z
LAST-MODIFIED:20260113T140836Z
UID:17068-1778284800-1778371199@www.bianfrance.org
SUMMARY:81ème Anniversaire de la libération des îles Anglo-Normandes
DESCRIPTION:Suite au succès de la Journée de la Libération 2025\, célébrant le 80e  anniversaire\, la planification de la Journée de la Libération 2026 est en cours dans les Îles Anglo-Normandes.  \nLes préparations des célébrations de la libération ont commencé dans les îles.  Plusieurs éléments de l’événement marquant de 2025 seront de retour\, bien qu’à une échelle plus réduite\, car 2026 n’est pas une année commémorative\, comme le 80e anniversaire . Le travail avec les paroisses sur les célébrations locales a également commencé. Au programme\, des villages gastronomiques\, des stands de commerçants locaux et des scènes musicales. \nParmi les autres temps forts du programme reconduits\, on retrouvera le défilé et les paniers garnis de produits locaux destinés aux personnes âgées de la communauté\, qu’elles résident seules ou en résidence.  \nLe succès de la Journée de la Libération repose en grande partie sur la générosité\, le parrainage et le soutien des entreprises locales. En 2026\, de nombreuses occasions de participer et de contribuer à la création d’une journée célébrant le patrimoine insulaire et l’esprit communautaire seront à nouveau proposées. Restez connectés ! 
URL:https://www.bianfrance.org/event/81eme-anniversaire-de-la-liberation-des-iles-anglo-normandes/
ATTACH;FMTTYPE=image/jpeg:https://www.bianfrance.org/wp-content/uploads/Liberation-scaled.jpg
END:VEVENT
END:VCALENDAR